BEGIN:VCALENDAR
VERSION:2.0
PRODID:-//WP EVENT Manager Ical//NONSGML Events //EN
CALSCALE:GREGORIAN

BEGIN:VEVENT

DTSTART:20230519T000000AMZ
DTEND:20230521T233000PMZ
LOCATION:Online
SUMMARY:XVIII Encontro Mineiro de Biomedicina – EMBM
DESCRIPTION:
XVIII Encontro Mineiro de Biomedicina &#8211; EMBM.Universidade Federal do Triângulo Mineiro (UFTM)Uberaba, Minas Gerais



19, 20 e 21 de maio de 202



Informação importante!A inscrição no Encontro permite a escolha de uma opção de minicurso. Confira a lista completa de minicursos disponíveis:





Minicursos XVIII EMBM 2023 v2Baixar





Para saber mais detalhes, acesse o site do evento: HTTP://WWW.EMBIOMEDICINA.COM.BR/EVENT/XVIIIEMBM/SITE/CONTENT/XVIII-ENCONTRO-MINEIRO-DE-BIOMEDICINA

END:VEVENT
END:VCALENDAR
